BEGIN:VCALENDAR
VERSION:2.0
PRODID:-//https://www.mairie-neuillyplaisance.com///NONSGML kigkonsult.se iCalcreator 2.10.15//
METHOD:PUBLISH
BEGIN:VEVENT
UID:20260423T171306CEST-5464zJ4b5v@https://www.mairie-neuillyplaisance.com/
DTSTAMP:20260423T151306Z
DESCRIPTION:Le parc des Coteaux d’Avron a besoin de vous !\nClassé Natura 2
 000\, il est le poumon vert de notre Ville et comprend notamment 2 biotope
 s protégés pour leur faune et leur flore\, un vaste coteau\, une large pra
 irie\, des chemins piétonniers\, des aires de jeux et de détente…Son aména
 gement permet ainsi de conjuguer protection de la nature et activités de l
 oisirs.\nPlus d'info sur l'évènement sur la page dédiée ICI https://www.ma
 irie-neuillyplaisance.com/evenement/663-operation-d-entretien-du-parc-des-
 coteaux-d-avron
DTSTART:20240914T080000Z
DTEND:20240914T100000Z
LOCATION:Parc des coteaux d'Avron (3 Chemin des Pelouses d'Avron\, 93360 Ne
 uilly-Plaisance\, France)
SUMMARY:Opération d'entretien du parc des Coteaux d'Avron
URL:https://www.mairie-neuillyplaisance.com/evenement/663-operation-d-entre
 tien-du-parc-des-coteaux-d-avron
END:VEVENT
END:VCALENDAR
