BEGIN:VCALENDAR
VERSION:2.0
PRODID:-//https://www.mairie-neuillyplaisance.com///NONSGML kigkonsult.se iCalcreator 2.10.15//
METHOD:PUBLISH
BEGIN:VEVENT
UID:20260422T154036CEST-2703ZXtoDw@https://www.mairie-neuillyplaisance.com/
DTSTAMP:20260422T134036Z
DESCRIPTION: https://www.mairie-neuillyplaisance.com/evenement/1049-ceremon
 ie-commemorative
DTSTART:20260426T090000Z
DTEND:20260426T093000Z
LOCATION:Cour de la Mairie (6 Rue du Général de Gaulle\, 93360 Neuilly-Plai
 sance\, France)
SUMMARY:Cérémonie commémorative 
URL:https://www.mairie-neuillyplaisance.com/evenement/1049-ceremonie-commem
 orative
END:VEVENT
END:VCALENDAR
