BEGIN:VCALENDAR
VERSION:2.0
PRODID:-//https://www.mairie-neuillyplaisance.com///NONSGML kigkonsult.se iCalcreator 2.10.15//
METHOD:PUBLISH
BEGIN:VEVENT
UID:20260422T134709CEST-76088HzXFe@https://www.mairie-neuillyplaisance.com/
DTSTAMP:20260422T114709Z
DESCRIPTION:Cette année encore\, le Lions Club de Neuilly Plaisance organis
 e son tournoi « TENNIS CUP » du 24 au 26 avril 2026 avec le concours de la
  Mairie de Neuilly Plaisance\, de l’Association Neuilly Plaisance Sports T
 ennis et de l’Agence Immobilière Moreno 2000\, au profit de l’Association 
 Horizon Cancer.\nInscription des compétiteurs auprès de la FFT (mon espace
  FFT).&nbsp\;\nTarif 28€ (adhérent 25€)\n27 rue Marguerite - 93360 Neuilly
  Plaisance https://www.mairie-neuillyplaisance.com/evenement/1048-lions-te
 nnis-cup
DTSTART:20260424T073000Z
DTEND:20260426T170000Z
LOCATION:Stade municipal (27 Rue Marguerite\, 93360 Neuilly-Plaisance\, Fra
 nce)
SUMMARY:Lions Tennis Cup
URL:https://www.mairie-neuillyplaisance.com/evenement/1048-lions-tennis-cup
END:VEVENT
END:VCALENDAR
